BEGIN:VCALENDAR
VERSION:2.0
PRODID:-//Hope Valley Cinema - ECPv6.7.0//NONSGML v1.0//EN
CALSCALE:GREGORIAN
METHOD:PUBLISH
X-ORIGINAL-URL:http://hopevalleycinema.com
X-WR-CALDESC:Events for Hope Valley Cinema
REFRESH-INTERVAL;VALUE=DURATION:PT1H
X-Robots-Tag:noindex
X-PUBLISHED-TTL:PT1H
BEGIN:VTIMEZONE
TZID:Europe/London
BEGIN:DAYLIGHT
TZOFFSETFROM:+0000
TZOFFSETTO:+0100
TZNAME:BST
DTSTART:20240331T010000
END:DAYLIGHT
BEGIN:STANDARD
TZOFFSETFROM:+0100
TZOFFSETTO:+0000
TZNAME:GMT
DTSTART:20241027T010000
END:STANDARD
END:VTIMEZONE
BEGIN:VEVENT
DTSTART;TZID=Europe/London:20241121T193000
DTEND;TZID=Europe/London:20241121T220000
DTSTAMP:20260422T210200
CREATED:20241001T140025Z
LAST-MODIFIED:20241001T140422Z
UID:1922-1732217400-1732226400@hopevalleycinema.com
SUMMARY:Subterranean - The Maynard\, Grindleford
DESCRIPTION:Hope Valley Cinema presents: \nSubterranean \nFor adventurous thrill-seekers\, caving is hard to beat. Combining climbing\, diving\, wayfinding and overcoming claustrophobia\, it’s a unique skill set not for the faint of heart. \nTwo gritty teams of hobbyist explorers are on the cusp of discovering new territory. Katie Graham is an accountant by day who is obsessed with the Bisaro Anima cave in the Rocky Mountains\, and she is willing to risk it all to achieve a caving depth record that depends on a successful scuba dive. Further west on Vancouver Island is Franck Tuot\, who sacrifices weekends away from his young family with the goal of linking two tunnel systems that will mark the longest-known cave in Canada. \nRegardless of whether they are successful in their missions\, understanding their motivations and dedication is what makes their pursuits so compelling. Accessing the depths of the earth through muddy crawls\, tight squeezes\, and seemingly endless pits\, for these intrepid explorers\, there’s nowhere to go but down. \nDoors open 19:00 \nFilm starts 19:30 \nThere is a bar serving food and drink \nTrailer: https://www.youtube.com/watch?v=pmDsnszuuJ8&t=2s
URL:http://hopevalleycinema.com/event/subterranean-the-maynard-grindleford/
LOCATION:Maynard Hotel\, Grindleford\, Hope Valley\, S32 2HE\, United Kingdom
ATTACH;FMTTYPE=image/png:http://hopevalleycinema.com/wp-content/uploads/2024/10/Screenshot-2024-09-13-at-15.38.01.png
END:VEVENT
END:VCALENDAR