BEGIN:VCALENDAR
VERSION:2.0
PRODID:-//Hope Valley Cinema - ECPv6.7.0//NONSGML v1.0//EN
CALSCALE:GREGORIAN
METHOD:PUBLISH
X-WR-CALNAME:Hope Valley Cinema
X-ORIGINAL-URL:http://hopevalleycinema.com
X-WR-CALDESC:Events for Hope Valley Cinema
REFRESH-INTERVAL;VALUE=DURATION:PT1H
X-Robots-Tag:noindex
X-PUBLISHED-TTL:PT1H
BEGIN:VTIMEZONE
TZID:Europe/London
BEGIN:DAYLIGHT
TZOFFSETFROM:+0000
TZOFFSETTO:+0100
TZNAME:BST
DTSTART:20230326T010000
END:DAYLIGHT
BEGIN:STANDARD
TZOFFSETFROM:+0100
TZOFFSETTO:+0000
TZNAME:GMT
DTSTART:20231029T010000
END:STANDARD
END:VTIMEZONE
BEGIN:VEVENT
DTSTART;TZID=Europe/London:20231012T193000
DTEND;TZID=Europe/London:20231012T213000
DTSTAMP:20260425T143826
CREATED:20230929T104612Z
LAST-MODIFIED:20230929T105116Z
UID:1228-1697139000-1697146200@hopevalleycinema.com
SUMMARY:The Italian Job - Thornbridge Tap Room
DESCRIPTION:Come watch a screening of the classic 1969 film\, The Italian Job\,  at the wonderful Thornbridge Brewery Tap Room. Pizza and Beer to order.\n\n\nAn indoor﻿ screening of the classic\, 1969 film\, The Italian Job. \nH﻿osted at the wonderful Thornbridge Tap Room\, using our silent cinema screening kit\, we’re having the first of a series of screenings planned for the winter months. A silent screening does not mean there’s no sound\, just that you wear headphones to listen to the film. We provide all the equipment. \nT﻿hornbridge will have the bar open and you’ll be able to order their tasty pizza on the night too\, to munch at whilst watching the film. \nH﻿ow does a silent cinema work?\nW﻿e broadcast the film sound from small transmitter. We give you a receiver and some headphones so that you can hear the sound. You can bring your own headphones (if you wish)\, but they must use a standard stereo connector\, we CAN’T connect bluetooth headphones currently. \nW﻿hy are we screening it silently?\nB﻿y screening it silently we’re able to provide a better sound experience in an open space\, such as the Tap Room. It will also allow Thornbridge to open the bar to other members of the public\, without disturbing the viewing experience\, or letting others listen in without a ticket. This means we can keep the ticket prices down for you.  \nW﻿hat will I need to bring?\nJ﻿ust yourself and any friends\, oh and maybe some way to pay for a beer or pizza. Otherwise\, we provide a seat\, headphones and all the kit for a great screening experience. \nW﻿hat time does it start and finish?\nThe s﻿un goes down at 19:10 on the scheduled date\, we’ll start the film soon after that\, probably about 19:20. Lower light provides a better screening experience. The film lasts for 95 mins\, so we expect it to finish about 21:00. \nG﻿ot more questions?\nThat’s fine! Any questions relating to this screening\, please get in touch with us – hello@hopevalleycinema.com \nMatt & Ed
URL:http://hopevalleycinema.com/event/the-italian-job-thornbridge-tap-room/
LOCATION:Thornbridge Brewery\, Buxton Road\, Bakewell\, England\, DE45 1GS\, United Kingdom
ATTACH;FMTTYPE=image/jpeg:http://hopevalleycinema.com/wp-content/uploads/2023/09/8fae5a3e7d658fce0e462c18fdf2959f-rumuqK.tmp_.jpg
END:VEVENT
END:VCALENDAR