BEGIN:VCALENDAR
VERSION:2.0
PRODID:-//Hope Valley Cinema - ECPv6.7.0//NONSGML v1.0//EN
CALSCALE:GREGORIAN
METHOD:PUBLISH
X-WR-CALNAME:Hope Valley Cinema
X-ORIGINAL-URL:http://hopevalleycinema.com
X-WR-CALDESC:Events for Hope Valley Cinema
REFRESH-INTERVAL;VALUE=DURATION:PT1H
X-Robots-Tag:noindex
X-PUBLISHED-TTL:PT1H
BEGIN:VTIMEZONE
TZID:Europe/London
BEGIN:DAYLIGHT
TZOFFSETFROM:+0000
TZOFFSETTO:+0100
TZNAME:BST
DTSTART:20220327T010000
END:DAYLIGHT
BEGIN:STANDARD
TZOFFSETFROM:+0100
TZOFFSETTO:+0000
TZNAME:GMT
DTSTART:20221030T010000
END:STANDARD
BEGIN:DAYLIGHT
TZOFFSETFROM:+0000
TZOFFSETTO:+0100
TZNAME:BST
DTSTART:20230326T010000
END:DAYLIGHT
BEGIN:STANDARD
TZOFFSETFROM:+0100
TZOFFSETTO:+0000
TZNAME:GMT
DTSTART:20231029T010000
END:STANDARD
END:VTIMEZONE
BEGIN:VEVENT
DTSTART;TZID=Europe/London:20231012T193000
DTEND;TZID=Europe/London:20231012T213000
DTSTAMP:20260425T175144
CREATED:20230929T104612Z
LAST-MODIFIED:20230929T105116Z
UID:1228-1697139000-1697146200@hopevalleycinema.com
SUMMARY:The Italian Job - Thornbridge Tap Room
DESCRIPTION:Come watch a screening of the classic 1969 film\, The Italian Job\,  at the wonderful Thornbridge Brewery Tap Room. Pizza and Beer to order.\n\n\nAn indoor﻿ screening of the classic\, 1969 film\, The Italian Job. \nH﻿osted at the wonderful Thornbridge Tap Room\, using our silent cinema screening kit\, we’re having the first of a series of screenings planned for the winter months. A silent screening does not mean there’s no sound\, just that you wear headphones to listen to the film. We provide all the equipment. \nT﻿hornbridge will have the bar open and you’ll be able to order their tasty pizza on the night too\, to munch at whilst watching the film. \nH﻿ow does a silent cinema work?\nW﻿e broadcast the film sound from small transmitter. We give you a receiver and some headphones so that you can hear the sound. You can bring your own headphones (if you wish)\, but they must use a standard stereo connector\, we CAN’T connect bluetooth headphones currently. \nW﻿hy are we screening it silently?\nB﻿y screening it silently we’re able to provide a better sound experience in an open space\, such as the Tap Room. It will also allow Thornbridge to open the bar to other members of the public\, without disturbing the viewing experience\, or letting others listen in without a ticket. This means we can keep the ticket prices down for you.  \nW﻿hat will I need to bring?\nJ﻿ust yourself and any friends\, oh and maybe some way to pay for a beer or pizza. Otherwise\, we provide a seat\, headphones and all the kit for a great screening experience. \nW﻿hat time does it start and finish?\nThe s﻿un goes down at 19:10 on the scheduled date\, we’ll start the film soon after that\, probably about 19:20. Lower light provides a better screening experience. The film lasts for 95 mins\, so we expect it to finish about 21:00. \nG﻿ot more questions?\nThat’s fine! Any questions relating to this screening\, please get in touch with us – hello@hopevalleycinema.com \nMatt & Ed
URL:http://hopevalleycinema.com/event/the-italian-job-thornbridge-tap-room/
LOCATION:Thornbridge Brewery\, Buxton Road\, Bakewell\, England\, DE45 1GS\, United Kingdom
ATTACH;FMTTYPE=image/jpeg:http://hopevalleycinema.com/wp-content/uploads/2023/09/8fae5a3e7d658fce0e462c18fdf2959f-rumuqK.tmp_.jpg
END:VEVENT
BEGIN:VEVENT
DTSTART;TZID=Europe/London:20230502T203000
DTEND;TZID=Europe/London:20230502T223000
DTSTAMP:20260425T175144
CREATED:20230321T155639Z
LAST-MODIFIED:20230321T165702Z
UID:644-1683059400-1683066600@hopevalleycinema.com
SUMMARY:Reel Rock 17 - Hope Valley Garden Centre
DESCRIPTION:A screening of Reel Rock 17 – Three amazing films\, representing the best of climbing films from the last year.\n\nDon’t miss three heart-stopping new films featuring the year’s biggest climbing and adventure stories: a wild expedition on Nameless Tower in Pakistan; a new cutting-edge route in a massive limestone cave in France; and a journey to Palestine’s West Bank to explore the power of climbing to change lives. Presented by The North Face and supported by Black Diamond & Yeti.\n\n\nThe Films:\nBurning the Flame\nFeaturing: Barbara Zangerl and Jacopo Larcher \nLocations: Nameless Tower\, Pakistan \nBig wall free climbing masters Babsi and Jacopo seek their greatest challenge yet: a free ascent of Eternal Flame\, an elusive\, 3\,000-ft. route up the legendary Nameless Tower in Pakistan’s Karakoram range. Facing extreme conditions and 5.13 trad climbing at high altitude\, a two-year quest comes down to one short weather window. Captured with drones and on-mountain cameras in one of the most stunning places on earth\, Burning the Flame transports viewers to a place normally off-limits to all but the world’s best climbers. \nDNA\nFeaturing: Seb Bouin \nLocation: Verdon Gorge\, France \n29-year-old French sport climber Seb Bouin has been quietly working his way through the elite grades\, culminating in his attempt to establish a long pitch out an overhanging cave in the Verdon Gorge of France. His proposed line is so futuristic\, the moves so improbable\, that if Seb can put itall together it may be the most difficult route ever climbed. \nResistance Climbing\nFeaturing: Andrew Bisharat \nLocation: Palestine \nIn the strife-torn hills of Palestine\, a diverse crew of Bedouins\, dirtbags and urban professionals embraces climbing as a much-needed respite from the burdens of the Israeli occupation. American writer andclimber Andrew Bisharat visits the West Bank to explore his own roots and the power of climbing to transform lives. \nThe Event Details\nThe films will start at 20:30 and last for around two hours. You can arrive any time from 19:30. \nCertificate: 12A due to some coarse language. \nWhilst this is a Drive In event we are keen for people to come by bike to this screening; we will ensure that any that do cycle get good positions and unrestricted views. Do be prepared for bad or cold weather though\, as you’ll be seating out in the open. \nWe’re going to be using radio transmission sound technology to broadcast the soundtrack to you. You will be handed an audio receiver on arrival at the venue. This can be plugged into your car stereo via an AUX cable with a 3.5mm (standard headphone socket) or can be used with regular headphones (NOT Apple lightening connector) and/or a headphone splitter to allow multiple headphones to be connected to a single unit. Alternatively it could be plugged into a portable speaker (in your vehicle). \nWe will supply the receiver and can supply a 3.5mm to 3.5mm cable. We will NOT supply speaker\, headphones nor a headphone splitter\, these will need to be brought to the event by yourselves. \nAny questions relating to this screening\, please get in touch with us – info@cycletothecinema.co.uk \nMatt & Ed \nHere are some FAQs which cover the above and a few more bits and pieces to boot.
URL:http://hopevalleycinema.com/event/reel-rock-17-hope-valley-garden-centre-2/
LOCATION:Hope Valley Garden Centre\, Hope Road\, Bamford\, Hope Valley\, Derbyshire\, S33 0AL\, United Kingdom
CATEGORIES:Adventure
ATTACH;FMTTYPE=image/jpeg:http://hopevalleycinema.com/wp-content/uploads/2023/03/28b91874b43fdf0337afbb73e44cf586-HTBlHa.tmp_.jpg
END:VEVENT
BEGIN:VEVENT
DTSTART;TZID=Europe/London:20230425T203000
DTEND;TZID=Europe/London:20230425T223000
DTSTAMP:20260425T175144
CREATED:20230321T155638Z
LAST-MODIFIED:20230321T175130Z
UID:642-1682454600-1682461800@hopevalleycinema.com
SUMMARY:Reel Rock 17 - Hope Valley Garden Centre
DESCRIPTION:A screening of Reel Rock 17 – Three amazing films\, representing the best of climbing films from the last year.\n\nDon’t miss three heart-stopping new films featuring the year’s biggest climbing and adventure stories: a wild expedition on Nameless Tower in Pakistan; a new cutting-edge route in a massive limestone cave in France; and a journey to Palestine’s West Bank to explore the power of climbing to change lives. Presented by The North Face and supported by Black Diamond & Yeti.\n\n\nThe Films:\nBurning the Flame\nFeaturing: Barbara Zangerl and Jacopo Larcher \nLocations: Nameless Tower\, Pakistan \nBig wall free climbing masters Babsi and Jacopo seek their greatest challenge yet: a free ascent of Eternal Flame\, an elusive\, 3\,000-ft. route up the legendary Nameless Tower in Pakistan’s Karakoram range. Facing extreme conditions and 5.13 trad climbing at high altitude\, a two-year quest comes down to one short weather window. Captured with drones and on-mountain cameras in one of the most stunning places on earth\, Burning the Flame transports viewers to a place normally off-limits to all but the world’s best climbers. \nDNA\nFeaturing: Seb Bouin \nLocation: Verdon Gorge\, France \n29-year-old French sport climber Seb Bouin has been quietly working his way through the elite grades\, culminating in his attempt to establish a long pitch out an overhanging cave in the Verdon Gorge of France. His proposed line is so futuristic\, the moves so improbable\, that if Seb can put it all together it may be the most difficult route ever climbed. \nResistance Climbing\nFeaturing: Andrew Bisharat \nLocation: Palestine \nIn the strife-torn hills of Palestine\, a diverse crew of Bedouins\, dirtbags and urban professionals embraces climbing as a much-needed respite from the burdens of the Israeli occupation. American writer and climber Andrew Bisharat visits the West Bank to explore his own roots and the power of climbing to transform lives. \nThe Event Details\nThe films will start at 20:30 and last for around two hours. You can arrive any time from 19:30. \nCertificate: 12A due to some coarse language. \nWhilst this is a Drive In event we are keen for people to come by bike to this screening; we will ensure that any that do cycle get good positions and unrestricted views. Do be prepared for bad or cold weather though\, as you’ll be seating out in the open. \nWe’re going to be using radio transmission sound technology to broadcast the soundtrack to you. You will be handed an audio receiver on arrival at the venue. This can be plugged into your car stereo via an AUX cable with a 3.5mm (standard headphone socket) or can be used with regular headphones (NOT Apple lightening connector) and/or a headphone splitter to allow multiple headphones to be connected to a single unit. Alternatively it could be plugged into a portable speaker (in your vehicle). \nWe will supply the receiver and can supply a 3.5mm to 3.5mm cable. We will NOT supply speaker\, headphones nor a headphone splitter\, these will need to be brought to the event by yourselves. \nAny questions relating to this screening\, please get in touch with us – info@cycletothecinema.co.uk \nMatt & Ed \n\n\n\n\n\nHere are some FAQs which cover the above and a few more bits and pieces to boot.
URL:http://hopevalleycinema.com/event/reel-rock-17-hope-valley-garden-centre/
LOCATION:Hope Valley Garden Centre\, Hope Road\, Bamford\, Hope Valley\, Derbyshire\, S33 0AL\, United Kingdom
CATEGORIES:Adventure
ATTACH;FMTTYPE=image/jpeg:http://hopevalleycinema.com/wp-content/uploads/2023/03/c246b94fee498004767696bb6c458ae2-TXF0lM.tmp_.jpg
END:VEVENT
BEGIN:VEVENT
DTSTART;TZID=Europe/London:20230316T193000
DTEND;TZID=Europe/London:20230316T213000
DTSTAMP:20260425T175144
CREATED:20230123T122803Z
LAST-MODIFIED:20230123T152722Z
UID:567-1678995000-1679002200@hopevalleycinema.com
SUMMARY:The Shining
DESCRIPTION:The Shining Screening – Drive-in\, cycle or walk\n\n\nWelcome to our next outdoor “silent” film screening. By silent\, we mean using headphones and car stereos for the broadcasting of the soundtrack\, to avoid disturbing the local area.  \nThe Shining \nThe haunting horror thriller\, The Shining. Stanley Kubrick at his very best. Set at the infamous and remote Overlook resort hotel\, Jack takes his family to caretake through the winter and finish his book. All does not end well. Hold on to your handbrake\, this is going to get scary! \nRunning time 146mins \nCertificate 18 – scenes of gore and horror. Suspense and feeling of threat and menace.  \nThe Event Details \nThe film will start at 19:30 and  last for around two hours. You can arrive any time from 18:30.  \nWhilst this is a Drive In event we are keen for people to come by bike to this screening; we will ensure that any that do cycle get good positions and unrestricted views. Do be prepared for bad or cold weather though\, as you’ll be seating out in the open. \nWe’re going to be using radio transmission sound technology to broadcast the soundtrack to your vehicle. You will be handed an audio receiver on arrival at the venue through your car window or to hand if you cycle. This can be plugged into your car stereo via an AUX cable with a 3.5mm (standard headphone socket) or can be used with regular headphones (NOT Apple lightening connector) and/or a headphone splitter to allow multiple headphones to be connected to a single unit. Alternatively it could be plugged into a portable speaker (in your vehicle). \nWe will supply the receiver and can supply a 3.5mm to 3.5mm cable. We will NOT supply speaker\, headphones nor a headphone splitter\, these will need to be brought to the event by yourselves. \nAny questions relating to this screening\, please get in touch with us –  \nhello@hopevalleycinema.co.uk \nMatt & Ed \nHere are some FAQs which cover the above and a few more bits and pieces to boot.
URL:http://hopevalleycinema.com/event/the-shining/
LOCATION:Hope Valley Garden Centre\, Hope Road\, Bamford\, Hope Valley\, Derbyshire\, S33 0AL\, United Kingdom
CATEGORIES:Horror
ATTACH;FMTTYPE=image/jpeg:http://hopevalleycinema.com/wp-content/uploads/2023/01/0448abaf7c37bc96b75265b2bb130b60-YXRSqJ.tmp_.jpg
END:VEVENT
BEGIN:VEVENT
DTSTART;TZID=Europe/London:20230315T183000
DTEND;TZID=Europe/London:20230315T203000
DTSTAMP:20260425T175144
CREATED:20230123T122802Z
LAST-MODIFIED:20230123T140018Z
UID:565-1678905000-1678912200@hopevalleycinema.com
SUMMARY:Back to the Future
DESCRIPTION:Back to the Future Screening – Drive-in\, cycle or walk\n\n\nWelcome to our next outdoor “silent” film screening. By silent\, we mean using headphones and car stereos for the broadcasting of the soundtrack\, to avoid disturbing the local area. \nBack to the Future \nThe classic time travelling 80’s hit. Marty McFly travels back in time in infamous DeLorean to help his parents and stop him becoming a shadow of his former self. Anyone got a spare 1.21 gigawatts of electricity hanging about? \nRunning time 116mins \nCertificate PG \nThe Event Details \nThe film will start at 18:30 and last for around two hours. You can arrive any time from 17:30. \nCertificate: PG \nWhilst this is a Drive In event we are keen for people to come by bike to this screening; we will ensure that any that do cycle get good positions and unrestricted views. Do be prepared for bad or cold weather though\, as you’ll be seating out in the open. \nWe’re going to be using radio transmission sound technology to broadcast the soundtrack to your vehicle. You will be handed an audio receiver on arrival at the venue through your car window or to hand if you cycle. This can be plugged into your car stereo via an AUX cable with a 3.5mm (standard headphone socket) or can be used with regular headphones (NOT Apple lightening connector) and/or a headphone splitter to allow multiple headphones to be connected to a single unit. Alternatively it could be plugged into a portable speaker (in your vehicle). \nWe will supply the receiver and can supply a 3.5mm to 3.5mm cable. We will NOT supply speaker\, headphones nor a headphone splitter\, these will need to be brought to the event by yourselves. \nAny questions relating to this screening\, please get in touch with us – \nhello@hopevalleycinema.co.uk \nMatt & Ed \nHere are some FAQs which cover the above and a few more bits and pieces to boot.
URL:http://hopevalleycinema.com/event/back-to-the-future/
LOCATION:Hope Valley Garden Centre\, Hope Road\, Bamford\, Hope Valley\, Derbyshire\, S33 0AL\, United Kingdom
CATEGORIES:Familly
ATTACH;FMTTYPE=image/jpeg:http://hopevalleycinema.com/wp-content/uploads/2023/01/BackToTheFuture-lo.jpg
END:VEVENT
BEGIN:VEVENT
DTSTART;TZID=Europe/London:20221213T203000
DTEND;TZID=Europe/London:20221213T223000
DTSTAMP:20260425T175144
CREATED:20221209T133402Z
LAST-MODIFIED:20221213T124326Z
UID:293-1670963400-1670970600@hopevalleycinema.com
SUMMARY:Love Actually
DESCRIPTION:A screening of the classic festive Rom-Com\, Love Actually. Drive-in\, cycle or walk an outdoor screening at Hope Valley Garden Centre.\n \nFilm Background: Love Actually\n \nNine intertwined stories examine the complexities of the one emotion that connects us all: love. Among the characters explored are David (Hugh Grant)\, the handsome newly elected British prime minister who falls for a young junior staffer (Martine McCutcheon)\, Sarah (Laura Linney)\, a graphic designer whose devotion to her mentally ill brother complicates her love life\, and Harry (Alan Rickman)\, a married man tempted by his attractive new secretary.\n \nDirector: Richard Curtis\nCertification: 15\n			\n				\n				\n				\n				\n				Film Trailer\n			\n				\n				\n				\n				\n				\n				\n			\n				\n				\n				\n				\n				The Event Details\nThe film will start at 20:30 and last for around two hours. You can arrive any time from 19:45.\n \nTHIS EVENT WAS ORIGINALLY BILLED AS A DRIVE IN EVENT AT HOPE VALLEY GARDEN CENTRE. HOWEVER IT HAS BEEN MOVED INSIDE TO THE SIR WILLIAM HOTEL IN GRINDLEFORD DUE TO THE SUB ZERO TEMPERATURES. ALL THOSE WHO BOUGHT TICKETS HAVE BEEN ADVISED.\n \nAny questions relating to this screening\, please get in touch with us via our contact page\n \n \n\n 
URL:http://hopevalleycinema.com/event/love-actually/
LOCATION:The Sir William Hotel\, Sir William Hill Road\, Grindleford\, England\, S32 2HS\, United Kingdom
CATEGORIES:Familly
ATTACH;FMTTYPE=image/jpeg:http://hopevalleycinema.com/wp-content/uploads/2022/12/4c925fd595b99d0a1c5c4aeb97ee0c95-cNWeOW.tmp_.jpg
END:VEVENT
BEGIN:VEVENT
DTSTART;TZID=Europe/London:20221213T180000
DTEND;TZID=Europe/London:20221213T194500
DTSTAMP:20260425T175144
CREATED:20221209T133400Z
LAST-MODIFIED:20221213T124240Z
UID:290-1670954400-1670960700@hopevalleycinema.com
SUMMARY:Home Alone
DESCRIPTION:An early evening screening of the Christmas family classic.\n \nFilm Background: Home Alone\n \nWhen bratty 8-year-old Kevin McCallister (Macaulay Culkin) acts out the night before a family trip to Paris\, his mother (Catherine O’Hara) makes him sleep in the attic. After the McCallisters mistakenly leave for the airport without Kevin\, he awakens to an empty house and assumes his wish to have no family has come true. But his excitement sours when he realises that two con men (Joe Pesci\, Daniel Stern) plan to rob the McCallister residence\, and that he alone must protect the family home.\n \nDirector: Chris Columbus\nCertification: PG\n			\n				\n				\n				\n				\n				Film Trailer\n			\n				\n				\n				\n				\n				\n				\n			\n				\n				\n				\n				\n				The Event Details\nThe film will start at 18.00 and last for around an hour and three quarters. You can arrive any time from 17.00.\n\nTHIS EVENT WAS ORIGINALLY BILLED AS A DRIVE IN EVENT AT HOPE VALLEY GARDEN CENTRE. HOWEVER IT HAS BEEN MOVED INSIDE TO THE SIR WILLIAM HOTEL IN GRINDLEFORD DUE TO THE SUB ZERO TEMPERATURES. ALL THOSE WHO BOUGHT TICKETS HAVE BEEN ADVISED.\n\n\nAny questions relating to this screening\, please get in touch with us via our contact us page.
URL:http://hopevalleycinema.com/event/home-alone/
LOCATION:The Sir William Hotel\, Sir William Hill Road\, Grindleford\, England\, S32 2HS\, United Kingdom
ATTACH;FMTTYPE=image/jpeg:http://hopevalleycinema.com/wp-content/uploads/2022/12/4b06054ab4920c1ef3a49eeda8c4aa0e-nycV6H.tmp_.jpg
END:VEVENT
BEGIN:VEVENT
DTSTART;TZID=Europe/London:20221206T193000
DTEND;TZID=Europe/London:20221206T220000
DTSTAMP:20260425T175144
CREATED:20221124T172914Z
LAST-MODIFIED:20221130T143836Z
UID:29-1670355000-1670364000@hopevalleycinema.com
SUMMARY:Brit Rock
DESCRIPTION:
URL:http://hopevalleycinema.com/event/brit-rock/
LOCATION:Maynard Hotel\, Grindleford\, Hope Valley\, S32 2HE\, United Kingdom
CATEGORIES:Adventure
ATTACH;FMTTYPE=image/jpeg:http://hopevalleycinema.com/wp-content/uploads/2022/11/BR_2022_Queenlines_05-1-1.jpg
END:VEVENT
END:VCALENDAR