BEGIN:VCALENDAR
VERSION:2.0
PRODID:-//Hope Valley Cinema - ECPv6.7.0//NONSGML v1.0//EN
CALSCALE:GREGORIAN
METHOD:PUBLISH
X-WR-CALNAME:Hope Valley Cinema
X-ORIGINAL-URL:http://hopevalleycinema.com
X-WR-CALDESC:Events for Hope Valley Cinema
REFRESH-INTERVAL;VALUE=DURATION:PT1H
X-Robots-Tag:noindex
X-PUBLISHED-TTL:PT1H
BEGIN:VTIMEZONE
TZID:Europe/London
BEGIN:DAYLIGHT
TZOFFSETFROM:+0000
TZOFFSETTO:+0100
TZNAME:BST
DTSTART:20240331T010000
END:DAYLIGHT
BEGIN:STANDARD
TZOFFSETFROM:+0100
TZOFFSETTO:+0000
TZNAME:GMT
DTSTART:20241027T010000
END:STANDARD
END:VTIMEZONE
BEGIN:VEVENT
DTSTART;TZID=Europe/London:20241010T200000
DTEND;TZID=Europe/London:20241010T213000
DTSTAMP:20260422T234011
CREATED:20241001T125113Z
LAST-MODIFIED:20241001T125357Z
UID:1915-1728590400-1728595800@hopevalleycinema.com
SUMMARY:Wild Water - The Maynard\, Grindleford
DESCRIPTION:Wild Water \nGaddings Dam is a reservoir hidden in the West Yorkshire moors 780 feet above sea level. The bleak but romantic landscape\, steeped in the poetry and prose of Ted Hughes and the Brontës\, is home to England’s highest beach. The small strip of sand acts as a magnet to a community of swimmers\, day-trippers\, walkers\, bikers and runners. \nThere is a rhythm as people come and go\, having made the twenty-minute trek up a broken footpath\, each drawn to the beauty as it changes with the seasons; always the same\, always different. Some hardened locals brave the wind\, rain and snow to wild swim all seasons for escape\, comradeship\, to keep the black dog at bay or just for the sheer thrill. As they hit the water\, all experience the same visceral hit\, taking away everything except the moment. \nTime stops\, and peace arrives. \nBut there is more to this place than just swimming; a whole ecosystem of activity circulates around the reservoir. There are the volunteers who maintain the footpaths in all weathers\, the pub landlord fighting to keep vehicles out of his carpark\, the farmer and whose cattle need rescuing\, the Gaddings Dam Preservation Society\, and the January Daily Dippers. \nDoors open 19:30 \nFilm starts 20:00
URL:http://hopevalleycinema.com/event/wild-water-the-maynard-grindleford/
LOCATION:Maynard Hotel\, Grindleford\, Hope Valley\, S32 2HE\, United Kingdom
ATTACH;FMTTYPE=image/png:http://hopevalleycinema.com/wp-content/uploads/2024/10/Screenshot-2024-09-13-at-15.13.50.png
END:VEVENT
END:VCALENDAR