BEGIN:VCALENDAR
VERSION:2.0
PRODID:-//Hope Valley Cinema - ECPv6.7.0//NONSGML v1.0//EN
CALSCALE:GREGORIAN
METHOD:PUBLISH
X-WR-CALNAME:Hope Valley Cinema
X-ORIGINAL-URL:http://hopevalleycinema.com
X-WR-CALDESC:Events for Hope Valley Cinema
REFRESH-INTERVAL;VALUE=DURATION:PT1H
X-Robots-Tag:noindex
X-PUBLISHED-TTL:PT1H
BEGIN:VTIMEZONE
TZID:Europe/London
BEGIN:DAYLIGHT
TZOFFSETFROM:+0000
TZOFFSETTO:+0100
TZNAME:BST
DTSTART:20230326T010000
END:DAYLIGHT
BEGIN:STANDARD
TZOFFSETFROM:+0100
TZOFFSETTO:+0000
TZNAME:GMT
DTSTART:20231029T010000
END:STANDARD
END:VTIMEZONE
BEGIN:VEVENT
DTSTART;TZID=Europe/London:20231205T193000
DTEND;TZID=Europe/London:20231205T220000
DTSTAMP:20260425T130746
CREATED:20230929T104654Z
LAST-MODIFIED:20230929T104654Z
UID:1232-1701804600-1701813600@hopevalleycinema.com
SUMMARY:2023 Brit Rock Film Tour - The Maynard\, Grindleford
DESCRIPTION:The Brit Rock Film Tour 2023 Hope Valley Cinema screening takes place at 19.30 at the Maynard Hotel in Grindleford on Tues Dec 5th\n\n\nIt has all the best new climbing films from the UK’s top adventure filmmakers\, featuring some of the country’s most popular climbers. The 2023 tour delivers a stunning line-up of compelling stories from the vertical world in its strongest program to date. \nThe film line up will be: \nGODDESS OF CRAIC \nThis film tells the story of rising trad star Freja Shannon. We join half-Swedish\, half-Irish Freja in her ancestral homelands as she pursues her climbing goals for the season – ‘Sista Bossen’ E8 6c at the world-class granite climbing area of Bohuslan\, Sweden and ‘Snell’s Law’ E7 6c at the Burren on the west coast of Ireland. Freja is as affable as she is committed once on the lead\, resulting in captivating and gripping footage that will leave your jaw on the floor. \nThe film also delves into Freja’s past\, where we learn of her less-than-glamorous journey to becoming a professional climber – and how she overcame her inner doubts to break through as a leading female trad climber and alpinist. Whippers\, sends and Nordic power screams all-inclusive in this spectacular and entertaining film. \n‘Goddess of Craic’ 25mins \n \nSHINING STONES \nClimber Robbie Phillips chances upon a little-known mountain in the very far north of Scotland whilst driving from east coast to west. After some research\, Robbie discovers the mountain is called Ben Loyal\, and that climbing legend Simon Nadin has been developing a couple of lines at the crag. Simon tells him that there is something very special up there… \nWhat Robbie finds at Ben Loyal is off the scale: endless bouldering\, highballs\, countless quality granite tors and buttresses with untapped climbing potential. But all this pales into insignificance compared with the main face\, which holds the future of trad climbing on what is surely one of Britain’s greatest cliffs. \nA truly stunning film of hard new routing by Robbie and Simon in an extraordinary setting. \n‘Shining Stones’ 25mins \n \nHELMCKEN FALLS \nEmma Powell and Neil Gresham join the original pioneers of this unique ice climbing venue in British Columbia\, Tim Emmett and Klemen ‘Klem’ Premrl once again push the boundaries of steep\, sporty ice. After years of teasing\, Tim finally invites his life-long friend Neil Gresham\, along with top mixed climber Emma Powell to stoke up their pioneering spirit and develop some new lines at this surreal venue. \n‘Helmcken Falls’ 15mins \n \nHARD GIT \nControversial and never far from the news; climber Matt Wright goes trailblazing across the UK\, making wild first ascents\, hard solos and bold new lines. Loveable rogue and working-class hero Matt puts his money where his mouth is in this tour-de-force of hard climbing. After weighing up his time-verses-routes equation\, Matt abandons an attempt of the infamous Rhapsody (E11) and sets off on a quest to climb new inspiring lines. He does not disappoint\, with his energetic journey culminating in the first ascent of ‘Magical Thinking’ E10 7a – a heart-stoppingly dangerous route at Pavey Ark\, Lake District. \n‘Hard Git’ 20mins \n \nHEAD JAM \nFilmmaker Alastair Lee turns the camera on himself in this deep introspective story of triumph through adversity. Perceived as a successful man with the perfect life\, Al experiences unexpectedly dark times. Fearing he will lose everything\, we watch a man on the brink claw his way from despair\, using climbing and training to find peace and salvation. \nHaving never been the greatest of climbers\, Al demolishes his inner punter – attempting to fulfil his potential by setting his sights on routes he’s spent 30 years avoiding. Includes hard first ascents\, calamitous trad leads and bold on sights. \nCarnage ensues almost every time Al sets off on a lead in this gripping\, hilarious\, emotional and ultimately inspiring story of a man in struggle as he seeks to reconnect with himself. Adding to the riotous flavour of this production\, Al asks the climbers he’s working with to do the filming. \n‘Headjam’ 35mins \n \nTotal running time 120 mins. Plus an Interval. Start time 19.30 \nThere will be a bar serving food
URL:http://hopevalleycinema.com/event/2023-brit-rock-film-tour-the-maynard-grindleford/
LOCATION:The Maynard\, Main Road\, Grindleford\, England\, S32 2HE\, United Kingdom
ATTACH;FMTTYPE=image/jpeg:http://hopevalleycinema.com/wp-content/uploads/2023/09/fd10fe3a988551f51b7abac58d0335bf-fpFLYe.tmp_.jpg
END:VEVENT
END:VCALENDAR