BEGIN:VCALENDAR
VERSION:2.0
PRODID:-//Hope Valley Cinema - ECPv6.7.0//NONSGML v1.0//EN
CALSCALE:GREGORIAN
METHOD:PUBLISH
X-ORIGINAL-URL:http://hopevalleycinema.com
X-WR-CALDESC:Events for Hope Valley Cinema
REFRESH-INTERVAL;VALUE=DURATION:PT1H
X-Robots-Tag:noindex
X-PUBLISHED-TTL:PT1H
BEGIN:VTIMEZONE
TZID:Europe/London
BEGIN:DAYLIGHT
TZOFFSETFROM:+0000
TZOFFSETTO:+0100
TZNAME:BST
DTSTART:20230326T010000
END:DAYLIGHT
BEGIN:STANDARD
TZOFFSETFROM:+0100
TZOFFSETTO:+0000
TZNAME:GMT
DTSTART:20231029T010000
END:STANDARD
END:VTIMEZONE
BEGIN:VEVENT
DTSTART;TZID=Europe/London:20230315T183000
DTEND;TZID=Europe/London:20230315T203000
DTSTAMP:20260426T024732
CREATED:20230123T122802Z
LAST-MODIFIED:20230123T140018Z
UID:565-1678905000-1678912200@hopevalleycinema.com
SUMMARY:Back to the Future
DESCRIPTION:Back to the Future Screening – Drive-in\, cycle or walk\n\n\nWelcome to our next outdoor “silent” film screening. By silent\, we mean using headphones and car stereos for the broadcasting of the soundtrack\, to avoid disturbing the local area. \nBack to the Future \nThe classic time travelling 80’s hit. Marty McFly travels back in time in infamous DeLorean to help his parents and stop him becoming a shadow of his former self. Anyone got a spare 1.21 gigawatts of electricity hanging about? \nRunning time 116mins \nCertificate PG \nThe Event Details \nThe film will start at 18:30 and last for around two hours. You can arrive any time from 17:30. \nCertificate: PG \nWhilst this is a Drive In event we are keen for people to come by bike to this screening; we will ensure that any that do cycle get good positions and unrestricted views. Do be prepared for bad or cold weather though\, as you’ll be seating out in the open. \nWe’re going to be using radio transmission sound technology to broadcast the soundtrack to your vehicle. You will be handed an audio receiver on arrival at the venue through your car window or to hand if you cycle. This can be plugged into your car stereo via an AUX cable with a 3.5mm (standard headphone socket) or can be used with regular headphones (NOT Apple lightening connector) and/or a headphone splitter to allow multiple headphones to be connected to a single unit. Alternatively it could be plugged into a portable speaker (in your vehicle). \nWe will supply the receiver and can supply a 3.5mm to 3.5mm cable. We will NOT supply speaker\, headphones nor a headphone splitter\, these will need to be brought to the event by yourselves. \nAny questions relating to this screening\, please get in touch with us – \nhello@hopevalleycinema.co.uk \nMatt & Ed \nHere are some FAQs which cover the above and a few more bits and pieces to boot.
URL:http://hopevalleycinema.com/event/back-to-the-future/
LOCATION:Hope Valley Garden Centre\, Hope Road\, Bamford\, Hope Valley\, Derbyshire\, S33 0AL\, United Kingdom
CATEGORIES:Familly
ATTACH;FMTTYPE=image/jpeg:http://hopevalleycinema.com/wp-content/uploads/2023/01/BackToTheFuture-lo.jpg
END:VEVENT
END:VCALENDAR